BEGIN:VCALENDAR
VERSION:2.0
PRODID:-//wp-events-plugin.com//7.2.3.1//EN
TZID:America/New_York
X-WR-TIMEZONE:America/New_York
BEGIN:VEVENT
UID:52@nashualiberty.com
DTSTART;TZID=America/New_York:20220410T180000
DTEND;TZID=America/New_York:20220410T193000
DTSTAMP:20220410T151406Z
URL:https://nashualiberty.com/events/nashua-liberty-take-her-to-sea-editio
 n/
SUMMARY:Nashua Liberty - Take her to sea edition
DESCRIPTION:On this day in 1912\, the Titanic took to sea for her maiden vo
 yage.\n\nAlso this past week the Fed indicated that it expects to be accel
 erate interest rate increases this year and shrink down its massive balanc
 e sheet\, which got bloated during the y̶2̶k̶ ̶c̶r̶i̶s̶i̶s̶\, ̶
 2̶0̶0̶8̶ ̶c̶r̶i̶s̶i̶s̶\,̶ ̶Q̶E̶1̶\,̶ ̶Q̶E̶2̶\,̶ ̶Q
 ̶E̶3̶\,̶ pandemic stimulus.
ATTACH;FMTTYPE=image/jpeg:https://nashualiberty.com/wp-content/uploads/202
 2/04/titanic.png
CATEGORIES:Social
LOCATION:Martha's Exchange\, 185 Main St\, Nashua\, NH\, 03060\, United Sta
 tes
X-APPLE-STRUCTURED-LOCATION;VALUE=URI;X-ADDRESS=185 Main St\, Nashua\, NH\,
  03060\, United States;X-APPLE-RADIUS=100;X-TITLE=Martha's Exchange:geo:0,
 0
END:VEVENT
BEGIN:VTIMEZONE
TZID:America/New_York
X-LIC-LOCATION:America/New_York
BEGIN:DAYLIGHT
DTSTART:20220313T030000
TZOFFSETFROM:-0500
TZOFFSETTO:-0400
TZNAME:EDT
END:DAYLIGHT
END:VTIMEZONE
END:VCALENDAR